Package: coMET Version: 1.36.0 Command: /home/biocbuild/bbs-3.19-bioc/R/bin/R CMD build --keep-empty-dirs --no-resave-data coMET StartedAt: 2024-10-16 17:54:59 -0400 (Wed, 16 Oct 2024) EndedAt: 2024-10-16 17:57:38 -0400 (Wed, 16 Oct 2024) EllapsedTime: 159.3 seconds RetCode: 0 Status: OK PackageFile: coMET_1.36.0.tar.gz PackageFileSize: 21.83 MiB