Package: coMET Version: 1.36.0 Command: /Library/Frameworks/R.framework/Resources/bin/R CMD INSTALL coMET StartedAt: 2024-10-16 16:05:33 -0400 (Wed, 16 Oct 2024) EndedAt: 2024-10-16 16:07:38 -0400 (Wed, 16 Oct 2024) EllapsedTime: 125.8 seconds RetCode: 0 Status: OK