Package: coMET Version: 1.36.0 Command: rm -rf coMET.buildbin-libdir && mkdir coMET.buildbin-libdir && /Users/biocbuild/BBS/utils/build-universal.sh coMET_1.36.0.tar.gz /Library/Frameworks/R.framework/Resources/bin/R coMET.buildbin-libdir StartedAt: 2024-10-14 15:48:23 -0400 (Mon, 14 Oct 2024) EndedAt: 2024-10-14 15:50:50 -0400 (Mon, 14 Oct 2024) EllapsedTime: 147.3 seconds RetCode: 0 Status: OK PackageFile: coMET_1.36.0.tgz PackageFileSize: 21.82 MiB