Package: coGPS Version: 1.48.0 Command: chmod a+r coGPS -R && E:\biocbuild\bbs-3.19-bioc\R\bin\R.exe CMD build --keep-empty-dirs --no-resave-data coGPS StartedAt: 2024-10-16 18:19:34 -0400 (Wed, 16 Oct 2024) EndedAt: 2024-10-16 18:19:50 -0400 (Wed, 16 Oct 2024) EllapsedTime: 15.1 seconds RetCode: 0 Status: OK PackageFile: coGPS_1.48.0.tar.gz PackageFileSize: 1.64 MiB