Package: coGPS Version: 1.48.0 Command: F:\biocbuild\bbs-3.19-bioc\R\bin\R.exe CMD check --no-multiarch --install=check:coGPS.install-out.txt --library=F:\biocbuild\bbs-3.19-bioc\R\library --no-vignettes --timings coGPS_1.48.0.tar.gz StartedAt: 2024-06-27 00:18:13 -0400 (Thu, 27 Jun 2024) EndedAt: 2024-06-27 00:18:52 -0400 (Thu, 27 Jun 2024) EllapsedTime: 39.0 seconds RetCode: 0 Status: OK CheckDir: coGPS.Rcheck Warnings: 0