Package: clst Version: 1.52.0 Command: /Library/Frameworks/R.framework/Resources/bin/R CMD check --install=check:clst.install-out.txt --library=/Library/Frameworks/R.framework/Resources/library --no-vignettes --timings clst_1.52.0.tar.gz StartedAt: 2024-06-09 19:27:49 -0400 (Sun, 09 Jun 2024) EndedAt: 2024-06-09 19:28:29 -0400 (Sun, 09 Jun 2024) EllapsedTime: 40.6 seconds RetCode: 0 Status: WARNINGS CheckDir: clst.Rcheck Warnings: 1