Package: cliqueMS Version: 1.18.2 Command: E:\biocbuild\bbs-3.19-bioc\R\bin\R.exe CMD INSTALL cliqueMS StartedAt: 2024-10-16 16:57:48 -0400 (Wed, 16 Oct 2024) EndedAt: 2024-10-16 16:58:14 -0400 (Wed, 16 Oct 2024) EllapsedTime: 26.2 seconds RetCode: 1 Status: ERROR