Package: cliqueMS Version: 1.18.2 Command: /Library/Frameworks/R.framework/Resources/bin/R CMD build --keep-empty-dirs --no-resave-data cliqueMS StartedAt: 2024-10-16 17:59:46 -0400 (Wed, 16 Oct 2024) EndedAt: 2024-10-16 18:00:54 -0400 (Wed, 16 Oct 2024) EllapsedTime: 67.3 seconds RetCode: 1 Status: ERROR PackageFile: None PackageFileSize: NA