Package: cliqueMS Version: 1.18.1 Command: rm -rf cliqueMS.buildbin-libdir && mkdir cliqueMS.buildbin-libdir && /Users/biocbuild/BBS/utils/build-universal.sh cliqueMS_1.18.1.tar.gz /Library/Frameworks/R.framework/Resources/bin/R cliqueMS.buildbin-libdir StartedAt: 2024-08-08 14:36:59 -0400 (Thu, 08 Aug 2024) EndedAt: 2024-08-08 14:39:45 -0400 (Thu, 08 Aug 2024) EllapsedTime: 166.1 seconds RetCode: 0 Status: OK PackageFile: cliqueMS_1.18.1.tgz PackageFileSize: 1.045 MiB