Package: cliqueMS Version: 1.18.0 Command: /Library/Frameworks/R.framework/Resources/bin/R CMD build --keep-empty-dirs --no-resave-data cliqueMS StartedAt: 2024-06-09 19:33:34 -0400 (Sun, 09 Jun 2024) EndedAt: 2024-06-09 19:35:08 -0400 (Sun, 09 Jun 2024) EllapsedTime: 93.6 seconds RetCode: 1 Status: ERROR PackageFile: None PackageFileSize: NA