Package: cliqueMS Version: 1.18.2 Command: /Library/Frameworks/R.framework/Resources/bin/R CMD INSTALL cliqueMS StartedAt: 2024-10-16 17:39:46 -0400 (Wed, 16 Oct 2024) EndedAt: 2024-10-16 17:40:10 -0400 (Wed, 16 Oct 2024) EllapsedTime: 24.4 seconds RetCode: 1 Status: ERROR