Package: clippda Version: 1.54.0 Command: /Library/Frameworks/R.framework/Resources/bin/R CMD check --install=check:clippda.install-out.txt --library=/Library/Frameworks/R.framework/Resources/library --no-vignettes --timings clippda_1.54.0.tar.gz StartedAt: 2024-10-17 02:49:09 -0400 (Thu, 17 Oct 2024) EndedAt: 2024-10-17 02:56:23 -0400 (Thu, 17 Oct 2024) EllapsedTime: 434.9 seconds RetCode: 0 Status: OK CheckDir: clippda.Rcheck Warnings: 0