Package: chromDraw Version: 2.34.0 Command: /Library/Frameworks/R.framework/Resources/bin/R CMD INSTALL chromDraw StartedAt: 2024-06-09 15:14:33 -0400 (Sun, 09 Jun 2024) EndedAt: 2024-06-09 15:15:32 -0400 (Sun, 09 Jun 2024) EllapsedTime: 59.4 seconds RetCode: 0 Status: OK