Package: chipseq Version: 1.54.0 Command: /Library/Frameworks/R.framework/Resources/bin/R CMD check --install=check:chipseq.install-out.txt --library=/Library/Frameworks/R.framework/Resources/library --no-vignettes --timings chipseq_1.54.0.tar.gz StartedAt: 2024-06-09 19:23:53 -0400 (Sun, 09 Jun 2024) EndedAt: 2024-06-09 19:27:44 -0400 (Sun, 09 Jun 2024) EllapsedTime: 231.5 seconds RetCode: 0 Status: WARNINGS CheckDir: chipseq.Rcheck Warnings: 2