Package: chihaya Version: 1.4.0 Command: E:\biocbuild\bbs-3.19-bioc\R\bin\R.exe CMD INSTALL chihaya StartedAt: 2024-10-16 16:16:43 -0400 (Wed, 16 Oct 2024) EndedAt: 2024-10-16 16:17:37 -0400 (Wed, 16 Oct 2024) EllapsedTime: 53.7 seconds RetCode: 0 Status: OK