Package: celda Version: 1.20.0 Command: rm -rf celda.buildbin-libdir && mkdir celda.buildbin-libdir && E:\biocbuild\bbs-3.19-bioc\R\bin\R.exe CMD INSTALL --build --library=celda.buildbin-libdir celda_1.20.0.tar.gz StartedAt: 2024-10-17 07:29:53 -0400 (Thu, 17 Oct 2024) EndedAt: 2024-10-17 07:31:40 -0400 (Thu, 17 Oct 2024) EllapsedTime: 106.5 seconds RetCode: 0 Status: OK PackageFile: celda_1.20.0.zip PackageFileSize: 2.688 MiB