Package: ccrepe Version: 1.40.0 Command: E:\biocbuild\bbs-3.19-bioc\R\bin\R.exe CMD check --no-multiarch --install=check:ccrepe.install-out.txt --library=E:\biocbuild\bbs-3.19-bioc\R\library --no-vignettes --timings ccrepe_1.40.0.tar.gz StartedAt: 2024-10-16 23:47:37 -0400 (Wed, 16 Oct 2024) EndedAt: 2024-10-16 23:48:14 -0400 (Wed, 16 Oct 2024) EllapsedTime: 36.5 seconds RetCode: 0 Status: OK CheckDir: ccrepe.Rcheck Warnings: 0