Package: cageminer Version: 1.10.0 Command: /Library/Frameworks/R.framework/Resources/bin/R CMD build --keep-empty-dirs --no-resave-data cageminer StartedAt: 2024-10-16 17:39:59 -0400 (Wed, 16 Oct 2024) EndedAt: 2024-10-16 17:44:55 -0400 (Wed, 16 Oct 2024) EllapsedTime: 295.5 seconds RetCode: 0 Status: OK PackageFile: cageminer_1.10.0.tar.gz PackageFileSize: 1.416 MiB