Package: cBioPortalData Version: 2.16.0 Command: E:\biocbuild\bbs-3.19-bioc\R\bin\R.exe CMD INSTALL cBioPortalData StartedAt: 2024-10-16 16:41:10 -0400 (Wed, 16 Oct 2024) EndedAt: 2024-10-16 16:42:23 -0400 (Wed, 16 Oct 2024) EllapsedTime: 72.8 seconds RetCode: 0 Status: OK