Package: bugsigdbr Version: 1.10.1 Command: E:\biocbuild\bbs-3.19-bioc\R\bin\R.exe CMD INSTALL bugsigdbr StartedAt: 2024-10-16 16:12:05 -0400 (Wed, 16 Oct 2024) EndedAt: 2024-10-16 16:12:13 -0400 (Wed, 16 Oct 2024) EllapsedTime: 7.8 seconds RetCode: 0 Status: OK