Package: bugsigdbr Version: 1.10.1 Command: /home/biocbuild/bbs-3.19-bioc/R/bin/R CMD INSTALL bugsigdbr StartedAt: 2024-10-16 16:00:50 -0400 (Wed, 16 Oct 2024) EndedAt: 2024-10-16 16:00:52 -0400 (Wed, 16 Oct 2024) EllapsedTime: 2.6 seconds RetCode: 0 Status: OK