Package: bsseq Version: 1.40.0 Command: rm -rf bsseq.buildbin-libdir && mkdir bsseq.buildbin-libdir && F:\biocbuild\bbs-3.19-bioc\R\bin\R.exe CMD INSTALL --build --library=bsseq.buildbin-libdir bsseq_1.40.0.tar.gz StartedAt: 2024-06-27 07:55:50 -0400 (Thu, 27 Jun 2024) EndedAt: 2024-06-27 07:57:19 -0400 (Thu, 27 Jun 2024) EllapsedTime: 88.8 seconds RetCode: 0 Status: OK PackageFile: bsseq_1.40.0.zip PackageFileSize: 3.816 MiB