Package: borealis Version: 1.8.0 Command: /Library/Frameworks/R.framework/Resources/bin/R CMD build --keep-empty-dirs --no-resave-data borealis StartedAt: 2024-10-16 20:38:34 -0400 (Wed, 16 Oct 2024) EndedAt: 2024-10-16 20:40:53 -0400 (Wed, 16 Oct 2024) EllapsedTime: 139.4 seconds RetCode: 0 Status: OK PackageFile: borealis_1.8.0.tar.gz PackageFileSize: 426.3 KiB