Package: bnem Version: 1.12.0 Command: /home/biocbuild/bbs-3.19-bioc/R/bin/R CMD build --keep-empty-dirs --no-resave-data bnem StartedAt: 2024-10-16 17:21:07 -0400 (Wed, 16 Oct 2024) EndedAt: 2024-10-16 17:22:08 -0400 (Wed, 16 Oct 2024) EllapsedTime: 61.1 seconds RetCode: 0 Status: OK PackageFile: bnem_1.12.0.tar.gz PackageFileSize: 1.54 MiB