Package: biscuiteer Version: 1.18.0 Command: /home/biocbuild/bbs-3.19-bioc/R/bin/R CMD check --install=check:biscuiteer.install-out.txt --library=/home/biocbuild/bbs-3.19-bioc/R/site-library --timings biscuiteer_1.18.0.tar.gz StartedAt: 2024-10-16 22:12:45 -0400 (Wed, 16 Oct 2024) EndedAt: 2024-10-16 22:22:00 -0400 (Wed, 16 Oct 2024) EllapsedTime: 555.1 seconds RetCode: 0 Status: WARNINGS CheckDir: biscuiteer.Rcheck Warnings: 1