Package: biosigner Version: 1.32.0 Command: E:\biocbuild\bbs-3.19-bioc\R\bin\R.exe CMD check --no-multiarch --install=check:biosigner.install-out.txt --library=E:\biocbuild\bbs-3.19-bioc\R\library --no-vignettes --timings biosigner_1.32.0.tar.gz StartedAt: 2024-10-16 23:22:31 -0400 (Wed, 16 Oct 2024) EndedAt: 2024-10-16 23:28:58 -0400 (Wed, 16 Oct 2024) EllapsedTime: 387.0 seconds RetCode: 0 Status: OK CheckDir: biosigner.Rcheck Warnings: 0