Package: biodbNci Version: 1.8.0 Command: chmod a+r biodbNci -R && E:\biocbuild\bbs-3.19-bioc\R\bin\R.exe CMD build --keep-empty-dirs --no-resave-data biodbNci StartedAt: 2024-10-16 17:53:00 -0400 (Wed, 16 Oct 2024) EndedAt: 2024-10-16 17:54:59 -0400 (Wed, 16 Oct 2024) EllapsedTime: 118.7 seconds RetCode: 0 Status: OK PackageFile: biodbNci_1.8.0.tar.gz PackageFileSize: 312.2 KiB