Package: biodbHmdb Version: 1.10.0 Command: /home/biocbuild/R/R-beta-2024-04-15_r86425/bin/R CMD build --keep-empty-dirs --no-resave-data biodbHmdb StartedAt: 2024-05-08 22:46:30 -0000 (Wed, 08 May 2024) EndedAt: 2024-05-08 22:47:52 -0000 (Wed, 08 May 2024) EllapsedTime: 82.1 seconds RetCode: 0 Status: OK PackageFile: biodbHmdb_1.10.0.tar.gz PackageFileSize: 470.4 KiB