Package: bettr Version: 1.0.0 Command: rm -rf bettr.buildbin-libdir && mkdir bettr.buildbin-libdir && /Users/biocbuild/BBS/utils/build-universal.sh bettr_1.0.0.tar.gz /Library/Frameworks/R.framework/Resources/bin/R bettr.buildbin-libdir StartedAt: 2024-06-11 10:16:37 -0400 (Tue, 11 Jun 2024) EndedAt: 2024-06-11 10:17:40 -0400 (Tue, 11 Jun 2024) EllapsedTime: 62.9 seconds RetCode: 0 Status: OK PackageFile: bettr_1.0.0.tgz PackageFileSize: 1.728 MiB