Package: beadarraySNP Version: 1.70.0 Command: rm -rf beadarraySNP.buildbin-libdir && mkdir beadarraySNP.buildbin-libdir && /Users/biocbuild/BBS/utils/build-universal.sh beadarraySNP_1.70.0.tar.gz /Library/Frameworks/R.framework/Resources/bin/R beadarraySNP.buildbin-libdir StartedAt: 2024-10-18 17:26:15 -0400 (Fri, 18 Oct 2024) EndedAt: 2024-10-18 17:26:31 -0400 (Fri, 18 Oct 2024) EllapsedTime: 16.0 seconds RetCode: 0 Status: OK PackageFile: beadarraySNP_1.70.0.tgz PackageFileSize: 1.036 MiB