Package: beachmat Version: 2.20.0 Command: rm -rf beachmat.buildbin-libdir && mkdir beachmat.buildbin-libdir && /Users/biocbuild/BBS/utils/build-universal.sh beachmat_2.20.0.tar.gz /Library/Frameworks/R.framework/Resources/bin/R beachmat.buildbin-libdir StartedAt: 2024-10-18 17:25:35 -0400 (Fri, 18 Oct 2024) EndedAt: 2024-10-18 17:30:14 -0400 (Fri, 18 Oct 2024) EllapsedTime: 279.6 seconds RetCode: 0 Status: OK PackageFile: beachmat_2.20.0.tgz PackageFileSize: 2.004 MiB