Package: bcSeq Version: 1.26.0 Command: chmod a+r bcSeq -R && E:\biocbuild\bbs-3.19-bioc\R\bin\R.exe CMD build --keep-empty-dirs --no-resave-data bcSeq StartedAt: 2024-10-16 17:41:29 -0400 (Wed, 16 Oct 2024) EndedAt: 2024-10-16 17:42:42 -0400 (Wed, 16 Oct 2024) EllapsedTime: 73.5 seconds RetCode: 0 Status: OK PackageFile: bcSeq_1.26.0.tar.gz PackageFileSize: 237.7 KiB