Package: bcSeq Version: 1.26.0 Command: chmod a+r bcSeq -R && F:\biocbuild\bbs-3.19-bioc\R\bin\R.exe CMD build --keep-empty-dirs --no-resave-data bcSeq StartedAt: 2024-06-26 17:15:35 -0400 (Wed, 26 Jun 2024) EndedAt: 2024-06-26 17:17:11 -0400 (Wed, 26 Jun 2024) EllapsedTime: 96.4 seconds RetCode: 0 Status: OK PackageFile: bcSeq_1.26.0.tar.gz PackageFileSize: 237.8 KiB