Package: bamsignals Version: 1.36.0 Command: F:\biocbuild\bbs-3.19-bioc\R\bin\R.exe CMD INSTALL bamsignals StartedAt: 2024-06-26 15:49:08 -0400 (Wed, 26 Jun 2024) EndedAt: 2024-06-26 15:49:59 -0400 (Wed, 26 Jun 2024) EllapsedTime: 51.3 seconds RetCode: 0 Status: OK