Package: bamsignals Version: 1.36.0 Command: /home/biocbuild/bbs-3.19-bioc/R/bin/R CMD check --install=check:bamsignals.install-out.txt --library=/home/biocbuild/bbs-3.19-bioc/R/site-library --timings bamsignals_1.36.0.tar.gz StartedAt: 2024-10-16 21:46:15 -0400 (Wed, 16 Oct 2024) EndedAt: 2024-10-16 21:48:00 -0400 (Wed, 16 Oct 2024) EllapsedTime: 105.2 seconds RetCode: 0 Status: OK CheckDir: bamsignals.Rcheck Warnings: 0