Package: bamsignals Version: 1.36.0 Command: /Library/Frameworks/R.framework/Resources/bin/R CMD check --install=check:bamsignals.install-out.txt --library=/Library/Frameworks/R.framework/Resources/library --no-vignettes --timings bamsignals_1.36.0.tar.gz StartedAt: 2024-06-09 18:49:51 -0400 (Sun, 09 Jun 2024) EndedAt: 2024-06-09 18:51:46 -0400 (Sun, 09 Jun 2024) EllapsedTime: 115.0 seconds RetCode: 0 Status: OK CheckDir: bamsignals.Rcheck Warnings: 0