Package: bamsignals Version: 1.36.0 Command: /home/biocbuild/R/R-beta-2024-04-15_r86425/bin/R CMD check --install=check:bamsignals.install-out.txt --library=/home/biocbuild/R/R-beta-2024-04-15_r86425/site-library --no-vignettes --timings bamsignals_1.36.0.tar.gz StartedAt: 2024-05-09 04:54:18 -0000 (Thu, 09 May 2024) EndedAt: 2024-05-09 04:56:36 -0000 (Thu, 09 May 2024) EllapsedTime: 137.2 seconds RetCode: 0 Status: OK CheckDir: bamsignals.Rcheck Warnings: 0