Package: awst Version: 1.12.0 Command: /home/biocbuild/bbs-3.19-bioc/R/bin/R CMD INSTALL awst StartedAt: 2024-10-16 15:55:54 -0400 (Wed, 16 Oct 2024) EndedAt: 2024-10-16 15:56:14 -0400 (Wed, 16 Oct 2024) EllapsedTime: 19.7 seconds RetCode: 0 Status: OK