Package: autonomics Version: 1.12.1 Command: /home/biocbuild/bbs-3.19-bioc/R/bin/R CMD build --keep-empty-dirs --no-resave-data autonomics StartedAt: 2024-10-16 16:59:21 -0400 (Wed, 16 Oct 2024) EndedAt: 2024-10-16 17:02:31 -0400 (Wed, 16 Oct 2024) EllapsedTime: 189.3 seconds RetCode: 0 Status: OK PackageFile: autonomics_1.12.1.tar.gz PackageFileSize: 2.264 MiB