Package: autonomics Version: 1.12.1 Command: /Library/Frameworks/R.framework/Resources/bin/R CMD INSTALL autonomics StartedAt: 2024-10-16 15:30:59 -0400 (Wed, 16 Oct 2024) EndedAt: 2024-10-16 15:32:31 -0400 (Wed, 16 Oct 2024) EllapsedTime: 92.7 seconds RetCode: 0 Status: OK