Package: autonomics Version: 1.12.1 Command: /Library/Frameworks/R.framework/Resources/bin/R CMD build --keep-empty-dirs --no-resave-data autonomics StartedAt: 2024-10-16 17:08:09 -0400 (Wed, 16 Oct 2024) EndedAt: 2024-10-16 17:15:42 -0400 (Wed, 16 Oct 2024) EllapsedTime: 453.0 seconds RetCode: 0 Status: OK PackageFile: autonomics_1.12.1.tar.gz PackageFileSize: 2.616 MiB