Package: autonomics Version: 1.12.0 Command: /home/biocbuild/R/R-beta-2024-04-15_r86425/bin/R CMD check --install=check:autonomics.install-out.txt --library=/home/biocbuild/R/R-beta-2024-04-15_r86425/site-library --no-vignettes --timings autonomics_1.12.0.tar.gz StartedAt: 2024-05-09 04:51:54 -0000 (Thu, 09 May 2024) EndedAt: 2024-05-09 05:08:08 -0000 (Thu, 09 May 2024) EllapsedTime: 973.6 seconds RetCode: 1 Status: ERROR CheckDir: autonomics.Rcheck Warnings: NA