Package: autonomics Version: 1.12.0 Command: /home/biocbuild/R/R-beta-2024-04-15_r86425/bin/R CMD build --keep-empty-dirs --no-resave-data autonomics StartedAt: 2024-05-08 22:25:22 -0000 (Wed, 08 May 2024) EndedAt: 2024-05-08 22:36:18 -0000 (Wed, 08 May 2024) EllapsedTime: 655.8 seconds RetCode: 0 Status: OK PackageFile: autonomics_1.12.0.tar.gz PackageFileSize: 2.091 MiB