Package: autonomics Version: 1.12.1 Command: /Library/Frameworks/R.framework/Resources/bin/R CMD INSTALL autonomics StartedAt: 2024-06-09 15:33:00 -0400 (Sun, 09 Jun 2024) EndedAt: 2024-06-09 15:33:56 -0400 (Sun, 09 Jun 2024) EllapsedTime: 55.8 seconds RetCode: 0 Status: OK