Package: autonomics Version: 1.12.1 Command: /Library/Frameworks/R.framework/Resources/bin/R CMD build --keep-empty-dirs --no-resave-data autonomics StartedAt: 2024-06-09 18:14:03 -0400 (Sun, 09 Jun 2024) EndedAt: 2024-06-09 18:18:01 -0400 (Sun, 09 Jun 2024) EllapsedTime: 237.8 seconds RetCode: 0 Status: OK PackageFile: autonomics_1.12.1.tar.gz PackageFileSize: 2.617 MiB