Package: attract Version: 1.56.0 Command: E:\biocbuild\bbs-3.19-bioc\R\bin\R.exe CMD INSTALL attract StartedAt: 2024-10-16 16:59:26 -0400 (Wed, 16 Oct 2024) EndedAt: 2024-10-16 16:59:59 -0400 (Wed, 16 Oct 2024) EllapsedTime: 33.3 seconds RetCode: 0 Status: OK