Package: aroma.light Version: 3.34.0 Command: /Library/Frameworks/R.framework/Resources/bin/R CMD INSTALL aroma.light StartedAt: 2024-06-09 15:08:52 -0400 (Sun, 09 Jun 2024) EndedAt: 2024-06-09 15:08:58 -0400 (Sun, 09 Jun 2024) EllapsedTime: 6.2 seconds RetCode: 0 Status: OK