Package: annaffy Version: 1.76.0 Command: /home/biocbuild/R/R-beta-2024-04-15_r86425/bin/R CMD check --install=check:annaffy.install-out.txt --library=/home/biocbuild/R/R-beta-2024-04-15_r86425/site-library --no-vignettes --timings annaffy_1.76.0.tar.gz StartedAt: 2024-05-09 04:44:13 -0000 (Thu, 09 May 2024) EndedAt: 2024-05-09 04:46:18 -0000 (Thu, 09 May 2024) EllapsedTime: 125.3 seconds RetCode: 0 Status: WARNINGS CheckDir: annaffy.Rcheck Warnings: 1