Package: annaffy Version: 1.76.0 Command: /Library/Frameworks/R.framework/Resources/bin/R CMD check --install=check:annaffy.install-out.txt --library=/Library/Frameworks/R.framework/Resources/library --no-vignettes --timings annaffy_1.76.0.tar.gz StartedAt: 2024-10-17 12:14:49 -0400 (Thu, 17 Oct 2024) EndedAt: 2024-10-17 12:17:03 -0400 (Thu, 17 Oct 2024) EllapsedTime: 133.9 seconds RetCode: 0 Status: WARNINGS CheckDir: annaffy.Rcheck Warnings: 1