Package: alabaster.sce Version: 1.4.0 Command: /Library/Frameworks/R.framework/Resources/bin/R CMD build --keep-empty-dirs --no-resave-data alabaster.sce StartedAt: 2024-06-09 15:49:08 -0400 (Sun, 09 Jun 2024) EndedAt: 2024-06-09 15:49:48 -0400 (Sun, 09 Jun 2024) EllapsedTime: 40.6 seconds RetCode: 0 Status: OK PackageFile: alabaster.sce_1.4.0.tar.gz PackageFileSize: 220.3 KiB